BEGIN:VCALENDAR
VERSION:2.0
PRODID:-//Tierschutzverein - ECPv6.15.20//NONSGML v1.0//EN
CALSCALE:GREGORIAN
METHOD:PUBLISH
X-ORIGINAL-URL:https://www.tierschutzverein-schwetzingen.de
X-WR-CALDESC:Veranstaltungen für Tierschutzverein
REFRESH-INTERVAL;VALUE=DURATION:PT1H
X-Robots-Tag:noindex
X-PUBLISHED-TTL:PT1H
BEGIN:VTIMEZONE
TZID:Europe/Helsinki
BEGIN:DAYLIGHT
TZOFFSETFROM:+0200
TZOFFSETTO:+0300
TZNAME:EEST
DTSTART:20230326T010000
END:DAYLIGHT
BEGIN:STANDARD
TZOFFSETFROM:+0300
TZOFFSETTO:+0200
TZNAME:EET
DTSTART:20231029T010000
END:STANDARD
BEGIN:DAYLIGHT
TZOFFSETFROM:+0200
TZOFFSETTO:+0300
TZNAME:EEST
DTSTART:20240331T010000
END:DAYLIGHT
BEGIN:STANDARD
TZOFFSETFROM:+0300
TZOFFSETTO:+0200
TZNAME:EET
DTSTART:20241027T010000
END:STANDARD
BEGIN:DAYLIGHT
TZOFFSETFROM:+0200
TZOFFSETTO:+0300
TZNAME:EEST
DTSTART:20250330T010000
END:DAYLIGHT
BEGIN:STANDARD
TZOFFSETFROM:+0300
TZOFFSETTO:+0200
TZNAME:EET
DTSTART:20251026T010000
END:STANDARD
END:VTIMEZONE
BEGIN:VEVENT
DTSTART;TZID=Europe/Helsinki:20241012T110000
DTEND;TZID=Europe/Helsinki:20241012T170000
DTSTAMP:20260422T114140
CREATED:20241007T212657Z
LAST-MODIFIED:20241007T213354Z
UID:4854-1728730800-1728752400@www.tierschutzverein-schwetzingen.de
SUMMARY:Garagenflohmarkt
DESCRIPTION:🐾 Flohmarkt-Alarm in Schwetzingen! 🐾 \n\n\n\n\n\n\n\nAm 12. Oktober findet unser Garagenflohmarkt mit allem rund um Haustierbedarf statt! 🐶🐱🐹 Du suchst nach einer neuen Transportbox für deinen Vierbeiner? 📦 Oder nach coolem Zubehör und Spielzeug? Dann bist du bei uns genau richtig! Von Hunde- und Katzenboxen bis hin zu Kleintierzubehör und Spielzeug – bei uns findest du alles\, was das Tierherz begehrt! ❤️ \n\n\n\nWir freuen uns auf dich! 🥰 \n\n\n\nInstagram\n\nFacebook
URL:https://www.tierschutzverein-schwetzingen.de/event/garagenflohmarkt/
LOCATION:Katzenstation Schwetzingen\, Zähringerstraße 19\, Schwetzingen\, Baden Württemberg\, 68723\, Germany
ATTACH;FMTTYPE=image/jpeg:https://www.tierschutzverein-schwetzingen.de/wp-content/uploads/2024/10/IMG_2517.jpeg
END:VEVENT
END:VCALENDAR