BEGIN:VCALENDAR
VERSION:2.0
PRODID:-//Tierschutzverein - ECPv6.15.20//NONSGML v1.0//EN
CALSCALE:GREGORIAN
METHOD:PUBLISH
X-WR-CALNAME:Tierschutzverein
X-ORIGINAL-URL:https://www.tierschutzverein-schwetzingen.de
X-WR-CALDESC:Veranstaltungen für Tierschutzverein
REFRESH-INTERVAL;VALUE=DURATION:PT1H
X-Robots-Tag:noindex
X-PUBLISHED-TTL:PT1H
BEGIN:VTIMEZONE
TZID:Europe/Helsinki
BEGIN:DAYLIGHT
TZOFFSETFROM:+0200
TZOFFSETTO:+0300
TZNAME:EEST
DTSTART:20230326T010000
END:DAYLIGHT
BEGIN:STANDARD
TZOFFSETFROM:+0300
TZOFFSETTO:+0200
TZNAME:EET
DTSTART:20231029T010000
END:STANDARD
BEGIN:DAYLIGHT
TZOFFSETFROM:+0200
TZOFFSETTO:+0300
TZNAME:EEST
DTSTART:20240331T010000
END:DAYLIGHT
BEGIN:STANDARD
TZOFFSETFROM:+0300
TZOFFSETTO:+0200
TZNAME:EET
DTSTART:20241027T010000
END:STANDARD
BEGIN:DAYLIGHT
TZOFFSETFROM:+0200
TZOFFSETTO:+0300
TZNAME:EEST
DTSTART:20250330T010000
END:DAYLIGHT
BEGIN:STANDARD
TZOFFSETFROM:+0300
TZOFFSETTO:+0200
TZNAME:EET
DTSTART:20251026T010000
END:STANDARD
END:VTIMEZONE
BEGIN:VEVENT
DTSTART;TZID=Europe/Helsinki:20241123T130000
DTEND;TZID=Europe/Helsinki:20241123T180000
DTSTAMP:20260422T095058
CREATED:20241007T182924Z
LAST-MODIFIED:20241026T135113Z
UID:4821-1732366800-1732384800@www.tierschutzverein-schwetzingen.de
SUMMARY:Weihnachtsmarkt 2024
DESCRIPTION:  \n\n\n\n\nAm 23.11. findet unser alljährlicher Weihnachtsmarkt statt. Es gibt wie immer viel zu erleben und zu schlemmen! Von 13 – 18 Uhr öffnet unsere Katzenstation ihre Pforten und lädt alle Tierfreunde herzlichst ein\, vorbeizuschauen. \n\n\n\nAngeboten werden regionale Köstlichkeiten wie Plätzchen\, Honig\, selbstgemachte Marmeladen und Eierlikör. Unser Bücherflohmarkt bietet Gelegenheit zum Stöbern und sicher lässt sich auf unserem Tierbedarfsflohmarkt und beim Stand für Tieraccessoires von Paulines Lädchen® auch schon das eine oder andere Geschenk für das Weihnachtsfest ergattern! Handgemachte Weihnachtsdeko und Gestecke sorgen für echte Weihnachtsstimmung. \n\n\n\nNeu in diesem Jahr: Unser Monatskalender 2025! Für diesen haben 2 fleißige Vereinsmitglieder unsere schönsten Bilder von unseren Tierkindern ausgesucht\, und daraus einen Wandkalender für 2025 zusammengestellt. Diesen können Sie auf dem Weihnachtsmarkt erwerben\, aber auch jetzt schon bestellen! \n\n\n\n\n\n\n\n\n\n\n\n\n\n\n\n\n\n\nZum Kalender\n\n\n\n\n\n\n\n\n Wir würden uns freuen\, wenn wir euch für unseren Kalender begeistern und wir euch am 23.11. begrüßen könnten! \n\n\n\nWir freuen uns auf euch! \n\n\n\nInstagram\n\nFacebook
URL:https://www.tierschutzverein-schwetzingen.de/event/weihnachtsmarkt-2024/
LOCATION:Katzenstation Schwetzingen\, Zähringerstraße 19\, Schwetzingen\, Baden Württemberg\, 68723\, Germany
ATTACH;FMTTYPE=image/png:https://www.tierschutzverein-schwetzingen.de/wp-content/uploads/2024/10/Kopie-von-Weihnachtsmarkt_Posting-e1728334865298.png
END:VEVENT
END:VCALENDAR