BEGIN:VCALENDAR
VERSION:2.0
PRODID:-//Tierschutzverein - ECPv6.15.20//NONSGML v1.0//EN
CALSCALE:GREGORIAN
METHOD:PUBLISH
X-WR-CALNAME:Tierschutzverein
X-ORIGINAL-URL:https://www.tierschutzverein-schwetzingen.de
X-WR-CALDESC:Veranstaltungen für Tierschutzverein
REFRESH-INTERVAL;VALUE=DURATION:PT1H
X-Robots-Tag:noindex
X-PUBLISHED-TTL:PT1H
BEGIN:VTIMEZONE
TZID:Europe/Helsinki
BEGIN:DAYLIGHT
TZOFFSETFROM:+0200
TZOFFSETTO:+0300
TZNAME:EEST
DTSTART:20240331T010000
END:DAYLIGHT
BEGIN:STANDARD
TZOFFSETFROM:+0300
TZOFFSETTO:+0200
TZNAME:EET
DTSTART:20241027T010000
END:STANDARD
BEGIN:DAYLIGHT
TZOFFSETFROM:+0200
TZOFFSETTO:+0300
TZNAME:EEST
DTSTART:20250330T010000
END:DAYLIGHT
BEGIN:STANDARD
TZOFFSETFROM:+0300
TZOFFSETTO:+0200
TZNAME:EET
DTSTART:20251026T010000
END:STANDARD
BEGIN:DAYLIGHT
TZOFFSETFROM:+0200
TZOFFSETTO:+0300
TZNAME:EEST
DTSTART:20260329T010000
END:DAYLIGHT
BEGIN:STANDARD
TZOFFSETFROM:+0300
TZOFFSETTO:+0200
TZNAME:EET
DTSTART:20261025T010000
END:STANDARD
END:VTIMEZONE
BEGIN:VEVENT
DTSTART;TZID=Europe/Helsinki:20250629T140000
DTEND;TZID=Europe/Helsinki:20250629T180000
DTSTAMP:20260421T222555
CREATED:20250613T134408Z
LAST-MODIFIED:20250613T134449Z
UID:5601-1751205600-1751220000@www.tierschutzverein-schwetzingen.de
SUMMARY:Sommerfest 2025
DESCRIPTION:
URL:https://www.tierschutzverein-schwetzingen.de/event/sommerfest-2025/
LOCATION:Grillhütte Schwetzingen\, HOCKENHEIMER LANDSTRAẞE 3\, SCHWETZINGEN\, Baden-Württemberg\, 68723\, Germany
END:VEVENT
END:VCALENDAR